BEGIN:VCALENDAR
CALSCALE:GREGORIAN
PRODID:iCalendar-Ruby
VERSION:2.0
BEGIN:VEVENT
DESCRIPTION: Vortrag von Valery Schlegel (Berlin) 
DTEND:20260428T174500
DTSTAMP:20260423T155500
DTSTART:20260428T161500
CLASS:PUBLIC
LOCATION:Freie Universität Berlin\n Fabeckstr. 23-25\n 14195 Berlin\n Raum 
 0.2052
SEQUENCE:0
SUMMARY:&amp;quot\;Möge sein Geist kein Brot erhalten! Neuassyrische Bestattung
 en und Identität&amp;quot\;
UID:158253139@/www.berliner-antike-kolleg.org
URL:https://www.berliner-antike-kolleg.org/services/kalender/vortraege/2026
 _04_28_schlegel.html
END:VEVENT
END:VCALENDAR
