BEGIN:VCALENDAR
CALSCALE:GREGORIAN
PRODID:iCalendar-Ruby
VERSION:2.0
BEGIN:VEVENT
DESCRIPTION: Vortrag von Ekaterina Kashina (Moskau) 
DTEND:20260428T200000
DTSTAMP:20260423T155500
DTSTART:20260428T180000
CLASS:PUBLIC
LOCATION:Freie Universität Berlin\n Fabeckstr. 23-25\n 14195 Berlin\n Raum 
 0.2051
SEQUENCE:0
SUMMARY:&amp;quot\;Flint sculpture of Late Stone Age hunter-gatherer-fishers of
  the North-East European forest zone: when\, why\,for what?&amp;quot\;
UID:158260331@/www.berliner-antike-kolleg.org
URL:https://www.berliner-antike-kolleg.org/services/kalender/vortraege/2026
 _04_28_kashina.html
END:VEVENT
END:VCALENDAR
